BEGIN:VCALENDAR
VERSION:2.0
PRODID:-//wp-events-plugin.com//7.2.3.1//EN
TZID:America/New_York
X-WR-TIMEZONE:America/New_York
BEGIN:VEVENT
UID:1072@agudasachim-va.org
DTSTART;TZID=America/New_York:20260419T150000
DTEND;TZID=America/New_York:20260419T163000
DTSTAMP:20260407T185144Z
URL:https://www.agudasachim-va.org/events/young-families-celebrate-yom-haa
 tzmaut-at-agudas-achim/
SUMMARY:Young Families\, celebrate Yom Ha'Atzmaut at Agudas Achim
DESCRIPTION:Join us and celebrate Yom Ha'Atzmaut  together! Make Israel co
 okies\, add to our Israeli flag mural\, make blue and white jewelry\, and 
 play on our Israel-Inspired playground.\n\nRegister here\n\n&nbsp\;
END:VEVENT
BEGIN:VTIMEZONE
TZID:America/New_York
X-LIC-LOCATION:America/New_York
BEGIN:DAYLIGHT
DTSTART:20260308T030000
TZOFFSETFROM:-0500
TZOFFSETTO:-0400
TZNAME:EDT
END:DAYLIGHT
END:VTIMEZONE
END:VCALENDAR