BEGIN:VCALENDAR
VERSION:2.0
PRODID:-//wp-events-plugin.com//7.2.3.1//EN
TZID:America/New_York
X-WR-TIMEZONE:America/New_York
BEGIN:VEVENT
UID:1074@agudasachim-va.org
DTSTART;TZID=America/New_York:20260426T090000
DTEND;TZID=America/New_York:20260426T143000
DTSTAMP:20260407T185503Z
URL:https://www.agudasachim-va.org/events/2026-maccabia-and-yom-haatzmaut-
 celebration/
SUMMARY:2026 Maccabia and Yom Ha'Atzmaut Celebration
DESCRIPTION:Join us for a full day of community\, connection\, and celebrat
 ion! Spend the day enjoying games\, learning\, friendly competition\, and\
 , of course\, plenty of delicious food. With something for all ages—incl
 uding a meaningful Yom HaZikaron commemoration\, engaging adult programmin
 g\, and the 5786 Maccabia Games (Color War) for kids in grades K–7—the
 re’s truly something for everyone. Teens are invited to either participa
 te in the adult program or volunteer to help bring the Maccabia Games to l
 ife.\n\nWe’ll come together for a traditional Israeli lunch as we celebr
 ate Israel’s 78th birthday\, and we hope you’ll be part of this specia
 l day. To register for morning programming and/or lunch\, please fill out 
 the form linked below—we can’t wait to celebrate with you!\n\nRegister
  Here 
END:VEVENT
BEGIN:VTIMEZONE
TZID:America/New_York
X-LIC-LOCATION:America/New_York
BEGIN:DAYLIGHT
DTSTART:20260308T030000
TZOFFSETFROM:-0500
TZOFFSETTO:-0400
TZNAME:EDT
END:DAYLIGHT
END:VTIMEZONE
END:VCALENDAR